BEGIN:VCALENDAR
VERSION:2.0
PRODID:-//eventon.com NONSGML v1.0//EN
CALSCALE:GREGORIAN
METHOD:PUBLISH
BEGIN:VEVENT
UID:69e6df603532d
DTSTAMP:20260421T022224Z
DTSTART:20210926T110000Z
DTEND:20210926T160000Z
LOCATION:Online Workshop
SUMMARY:Essence of Relationships Virtual Workshop
DESCRIPTION:Essence of Relationships Virtual Workshop\nhttps://essenceofbei
 ng.com/events/essence-of-relationships-1-day-atlanta-2021/
URL:https://essenceofbeing.com/events/essence-of-relationships-1-day-atlanta-2021/
END:VEVENT
END:VCALENDAR