BEGIN:VCALENDAR
VERSION:2.0
PRODID:-//eventon.com NONSGML v1.0//EN
CALSCALE:GREGORIAN
METHOD:PUBLISH
BEGIN:VEVENT
UID:69ec2196b9f0c
DTSTAMP:20260425T020614Z
DTSTART:20211107T110000Z
DTEND:20211107T160000Z
LOCATION:Online Workshop
SUMMARY:Essence of Leadership Virtual Workshop
DESCRIPTION:Essence of Leadership Virtual Workshop\nhttps://essenceofbeing.
 com/events/essence-of-leadership-1-day-atlanta-2021-2/
URL:https://essenceofbeing.com/events/essence-of-leadership-1-day-atlanta-2021-2/
END:VEVENT
END:VCALENDAR