BEGIN:VCALENDAR
VERSION:2.0
PRODID:-//eventon.com NONSGML v1.0//EN
CALSCALE:GREGORIAN
METHOD:PUBLISH
BEGIN:VEVENT
UID:69e9d512981f8
DTSTAMP:20260423T081514Z
DTSTART:20210807T180000Z
DTEND:20210807T230000Z
LOCATION:Homewood Suites Atlanta Midtown 97 10th St NW\,  Atlanta\,  GA 30309
SUMMARY:Gala 2021
DESCRIPTION:Join us for this fundraising event supporting our school in Lib
 eria and celebrating the graduation of our Conscious Leaders! All EOB gradu
 ates are welcome\,  you do not need to have an active membership in the aca
 demy.  Click here to donate to the Healing Forest Foundation to attend the
  Conscious Leadership[..]\nhttps://essenceofbeing.com/events/gala-2020/
URL:https://essenceofbeing.com/events/gala-2020/
END:VEVENT
END:VCALENDAR